BEGIN:VCALENDAR
VERSION:2.0
PRODID:-//YourData Network - ECPv6.15.18//NONSGML v1.0//EN
CALSCALE:GREGORIAN
METHOD:PUBLISH
X-WR-CALNAME:YourData Network
X-ORIGINAL-URL:https://yourdata.network
X-WR-CALDESC:Events for YourData Network
REFRESH-INTERVAL;VALUE=DURATION:PT1H
X-Robots-Tag:noindex
X-PUBLISHED-TTL:PT1H
BEGIN:VTIMEZONE
TZID:America/Belize
BEGIN:STANDARD
TZOFFSETFROM:-0600
TZOFFSETTO:-0600
TZNAME:CST
DTSTART:20240101T000000
END:STANDARD
END:VTIMEZONE
BEGIN:VEVENT
DTSTART;TZID=America/Belize:20251219T080000
DTEND;TZID=America/Belize:20251219T085800
DTSTAMP:20260422T024915
CREATED:20251219T015803Z
LAST-MODIFIED:20251219T034350Z
UID:2559-1766131200-1766134680@yourdata.network
SUMMARY:Demo Test
DESCRIPTION:
URL:https://yourdata.network/event/demo-test/
CATEGORIES:Live webinar
ATTACH;FMTTYPE=image/webp:https://yourdata.network/wp-content/uploads/2025/10/new-generation-nodes.webp
END:VEVENT
END:VCALENDAR